BEGIN:VCALENDAR
VERSION:2.0
PRODID:-//ZContent.net//ZapCalLib 1.0//EN
CALSCALE:GREGORIAN
METHOD:PUBLISH
BEGIN:VEVENT
SUMMARY:„33 Bogen und ein Teehaus“ Lesung mit Mehrnousch Zaeri-Esfahani
   | Diverse Kinder- und Jugendliteratur in Forschung, Lehre und Gesellscha
 ft
DTSTART:20231106T170000
DTEND:20231106T180000
UID:2026-04-24-19-10-38-0-@calendar.boell.de
DTSTAMP:20260424T171038
DESCRIPTION:▶ Siehe Veranstaltungsbeschreibung – Magdeburg – Landesst
 iftung Sachsen-Anhalt
END:VEVENT
END:VCALENDAR
