BEGIN:VCALENDAR
VERSION:2.0
PRODID:-//ZContent.net//ZapCalLib 1.0//EN
CALSCALE:GREGORIAN
METHOD:PUBLISH
BEGIN:VEVENT
SUMMARY:Elaha | Film und Gespräch über Feminismus & weibliche Selbstbesti
 mmung
DTSTART:20231123T194500
DTEND:20231123T220000
UID:2026-04-25-01-36-31-0-@calendar.boell.de
DTSTAMP:20260424T233631
DESCRIPTION:▶ Siehe Veranstaltungsbeschreibung – Stuttgart – Heinrich
  Böll Stiftung Baden-Württemberg
END:VEVENT
END:VCALENDAR
