BEGIN:VCALENDAR
VERSION:2.0
PRODID:-//ZContent.net//ZapCalLib 1.0//EN
CALSCALE:GREGORIAN
METHOD:PUBLISH
BEGIN:VEVENT
SUMMARY:Feminism WTF
DTSTART:20231116T190000
DTEND:20231116T203000
UID:2026-04-24-12-27-30-0-@calendar.boell.de
DTSTAMP:20260424T102730
DESCRIPTION:▶ Siehe Veranstaltungsbeschreibung – Frankfurt (Main) – 
END:VEVENT
END:VCALENDAR
