BEGIN:VCALENDAR
VERSION:2.0
PRODID:-//ZContent.net//ZapCalLib 1.0//EN
CALSCALE:GREGORIAN
METHOD:PUBLISH
BEGIN:VEVENT
SUMMARY:Wir können auch anders! | Die feministische Presserunde
DTSTART:20231030T180000
DTEND:20231030T193000
UID:2026-04-24-21-48-12-0-@calendar.boell.de
DTSTAMP:20260424T194812
DESCRIPTION:▶ Siehe Veranstaltungsbeschreibung – Landesstiftung Hessen
END:VEVENT
END:VCALENDAR
