BEGIN:VCALENDAR
VERSION:2.0
PRODID:-//ZContent.net//ZapCalLib 1.0//EN
CALSCALE:GREGORIAN
METHOD:PUBLISH
BEGIN:VEVENT
SUMMARY:Wasser in der Krise: Hier. | Lesung mit Journalist und Autor Uwe Ri
 tzer & anschließendes Gespräch
DTSTART:20231116T190000
DTEND:20231116T213000
UID:2026-04-25-13-08-29-0-@calendar.boell.de
DTSTAMP:20260425T110829
DESCRIPTION:▶ Siehe Veranstaltungsbeschreibung – Chemnitz – 
END:VEVENT
END:VCALENDAR
