BEGIN:VCALENDAR
VERSION:2.0
PRODID:-//ZContent.net//ZapCalLib 1.0//EN
CALSCALE:GREGORIAN
METHOD:PUBLISH
BEGIN:VEVENT
SUMMARY:Wasser in der Krise: Hier. | Lesung mit Journalist und Autor Uwe Ri
 tzer & anschließendes Gespräch mit Eva Jähnigen, Umweltbürgermeisterin
  (Dresden)
DTSTART:20231106T190000
DTEND:20231106T213000
UID:2026-04-25-23-42-22-0-@calendar.boell.de
DTSTAMP:20260425T214222
DESCRIPTION:▶ Siehe Veranstaltungsbeschreibung – Dresden – 
END:VEVENT
END:VCALENDAR
