BEGIN:VCALENDAR
VERSION:2.0
PRODID:-//ZContent.net//ZapCalLib 1.0//EN
CALSCALE:GREGORIAN
METHOD:PUBLISH
BEGIN:VEVENT
SUMMARY:Zürn | Eine Lesereihe über Wut und Gewalt
DTSTART:20231025T190000
DTEND:20231025T210000
UID:2026-04-25-23-06-29-0-@calendar.boell.de
DTSTAMP:20260425T210629
DESCRIPTION:▶ Siehe Veranstaltungsbeschreibung – Leipzig – Landesstif
 tung Sachsen (Weiterdenken)
END:VEVENT
END:VCALENDAR
