BEGIN:VCALENDAR
VERSION:2.0
PRODID:-//ZContent.net//ZapCalLib 1.0//EN
CALSCALE:GREGORIAN
METHOD:PUBLISH
BEGIN:VEVENT
SUMMARY:Demokratiebildung in der Migrationsgesellschaft | Fachtag zu demokr
 atiepädagogischen Ansätzen angesichts migrationsgesellschaftlicher Diskr
 iminierungsverhältnisse
DTSTART:20231004T093000
DTEND:20231004T183000
UID:2026-04-23-21-00-22-0-@calendar.boell.de
DTSTAMP:20260423T190022
DESCRIPTION:▶ Heinrich-Böll-Stiftung\, Bundesstiftung Berlin sowie Onlin
 e – Heinrich-Böll-Stiftung - Bundesstiftung Berlin
END:VEVENT
END:VCALENDAR
