BEGIN:VCALENDAR
VERSION:2.0
PRODID:-//ZContent.net//ZapCalLib 1.0//EN
CALSCALE:GREGORIAN
METHOD:PUBLISH
BEGIN:VEVENT
SUMMARY:Kontrolle ist gut - Vertrauen ist besser! | Polizei und Zivilgesell
 schaft - Sichtweisen auf ein schwieriges Verhältnis
DTSTART:20231203T113000
DTEND:20231203T133000
UID:2026-04-24-04-19-09-0-@calendar.boell.de
DTSTAMP:20260424T021909
DESCRIPTION:▶ Siehe Veranstaltungsbeschreibung – Bielefeld – Landesst
 iftung Nordrhein-Westfalen
END:VEVENT
END:VCALENDAR
