BEGIN:VCALENDAR
VERSION:2.0
PRODID:-//ZContent.net//ZapCalLib 1.0//EN
CALSCALE:GREGORIAN
METHOD:PUBLISH
BEGIN:VEVENT
SUMMARY:Männerphantasien 6 | Feministisches Open Reading zu kritischer Mä
 nnlichkeit
DTSTART:20230929T193000
DTEND:20230929T210000
UID:2026-04-25-04-59-16-0-@calendar.boell.de
DTSTAMP:20260425T025916
DESCRIPTION:▶ Siehe Veranstaltungsbeschreibung – Mannheim – Heinrich 
 Böll Stiftung Baden-Württemberg
END:VEVENT
END:VCALENDAR
