BEGIN:VCALENDAR
VERSION:2.0
PRODID:-//ZContent.net//ZapCalLib 1.0//EN
CALSCALE:GREGORIAN
METHOD:PUBLISH
BEGIN:VEVENT
SUMMARY:MÄNNERPHANTASIEN 8 | FEMINISTISCHES OPEN READING
DTSTART:20231215T193000
DTEND:20231215T220000
UID:2026-04-25-23-41-17-0-@calendar.boell.de
DTSTAMP:20260425T214117
DESCRIPTION:▶ Siehe Veranstaltungsbeschreibung – Mannheim – Heinrich 
 Böll Stiftung Baden-Württemberg
END:VEVENT
END:VCALENDAR
