BEGIN:VCALENDAR
VERSION:2.0
PRODID:-//ZContent.net//ZapCalLib 1.0//EN
CALSCALE:GREGORIAN
METHOD:PUBLISH
BEGIN:VEVENT
SUMMARY:Raus aus dem Hamsterrad - Erfolgreich arbeiten im Rat!  | Politisch
 e Ziele mit strategischer Vorbereitung leichter umsetzen
DTSTART:20240411T180000
DTEND:20240411T213000
UID:2026-04-24-13-58-15-0-@calendar.boell.de
DTSTAMP:20260424T115815
DESCRIPTION:▶ Online-Veranstaltung – Petra-Kelly-Stiftung
END:VEVENT
END:VCALENDAR
