BEGIN:VCALENDAR
VERSION:2.0
PRODID:-//ZContent.net//ZapCalLib 1.0//EN
CALSCALE:GREGORIAN
METHOD:PUBLISH
BEGIN:VEVENT
SUMMARY:***ABSAGE***Parents Circle –  Eine binationale Initiative aus Isr
 ael und Palästina berichtet 
DTSTART:20231010T200000
DTEND:20231010T220000
UID:2026-04-24-12-28-10-0-@calendar.boell.de
DTSTAMP:20260424T102810
DESCRIPTION:▶ Siehe Veranstaltungsbeschreibung – Hamburg – Landesstif
 tung Hamburg
END:VEVENT
END:VCALENDAR
