BEGIN:VCALENDAR
VERSION:2.0
PRODID:-//ZContent.net//ZapCalLib 1.0//EN
CALSCALE:GREGORIAN
METHOD:PUBLISH
BEGIN:VEVENT
SUMMARY:Kurdische Gedichtlesung @versnuven: ALTE MU x Böll SH (Kieler Woch
 e 2023) | mit Newroz Meslem
DTSTART:20230624T140000
DTEND:20230624T150000
UID:2026-04-25-23-42-05-0-@calendar.boell.de
DTSTAMP:20260425T214205
DESCRIPTION:▶ Siehe Veranstaltungsbeschreibung – Kiel – Landesstiftun
 g Schleswig-Holstein
END:VEVENT
END:VCALENDAR
