BEGIN:VCALENDAR
VERSION:2.0
PRODID:-//ZContent.net//ZapCalLib 1.0//EN
CALSCALE:GREGORIAN
METHOD:PUBLISH
BEGIN:VEVENT
SUMMARY:Antifeminismus begegnen – Demokratie stärken – in Bildung und 
 Sozialer Arbeit | Netzwerktagung 2023 in Nürnberg (in Präsenz)
DTSTART:20230929T110000
DTEND:20230930T160000
UID:2026-04-21-10-29-20-0-@calendar.boell.de
DTSTAMP:20260421T082920
DESCRIPTION:▶ Siehe Veranstaltungsbeschreibung – Nürnberg – Antifemi
 nismus begegnen
END:VEVENT
BEGIN:VEVENT
SUMMARY:Antifeminismus begegnen – Demokratie stärken – in Bildung und 
 Sozialer Arbeit | Netzwerktagung 2023 in Nürnberg (in Präsenz)
DTSTART:20230929T110000
DTEND:20230929T200000
UID:2026-04-21-08-29-20-1-@calendar.boell.de
DTSTAMP:20260421T082920
DESCRIPTION:▶ Siehe Veranstaltungsbeschreibung – Nürnberg – Antifemi
 nismus begegnen
END:VEVENT
BEGIN:VEVENT
SUMMARY:Antifeminismus begegnen – Demokratie stärken – in Bildung und 
 Sozialer Arbeit | Netzwerktagung 2023 in Nürnberg (in Präsenz)
DTSTART:20230930T090000
DTEND:20230930T160000
UID:2026-04-21-08-29-20-2-@calendar.boell.de
DTSTAMP:20260421T082920
DESCRIPTION:▶ Siehe Veranstaltungsbeschreibung – Nürnberg – Antifemi
 nismus begegnen
END:VEVENT
END:VCALENDAR
