BEGIN:VCALENDAR
VERSION:2.0
PRODID:-//ZContent.net//ZapCalLib 1.0//EN
CALSCALE:GREGORIAN
METHOD:PUBLISH
BEGIN:VEVENT
SUMMARY:Für einen antiableistischen Feminismus?! Pränataldiagnostik und d
 ie Forderung nach reproduktiver Selbstbestimmung | Vortrag und Diskussion
DTSTART:20230316T200000
DTEND:20230316T220000
UID:2026-04-24-07-55-45-0-@calendar.boell.de
DTSTAMP:20260424T055545
DESCRIPTION:▶ Siehe Veranstaltungsbeschreibung – Leipzig – Landesstif
 tung Sachsen (Weiterdenken)
END:VEVENT
END:VCALENDAR
