BEGIN:VCALENDAR
VERSION:2.0
PRODID:-//ZContent.net//ZapCalLib 1.0//EN
CALSCALE:GREGORIAN
METHOD:PUBLISH
BEGIN:VEVENT
SUMMARY:Das Recht zu schützen - Über proaktive Flüchtlingsaufnahme von L
 ändern und Kommunen | aus der Reihe: Ziviles Engagement an Grenzen 
DTSTART:20230322T110000
DTEND:20230322T130000
UID:2026-04-24-14-15-53-0-@calendar.boell.de
DTSTAMP:20260424T121553
DESCRIPTION:▶ Siehe Veranstaltungsbeschreibung – Hamburg – Landesstif
 tung Hamburg
END:VEVENT
END:VCALENDAR
