BEGIN:VCALENDAR
VERSION:2.0
PRODID:-//ZContent.net//ZapCalLib 1.0//EN
CALSCALE:GREGORIAN
METHOD:PUBLISH
BEGIN:VEVENT
SUMMARY:Stadtspaziergang - Zur Geschichte von Einwanderung in Kreuzberg | E
 inwanderung und Kampf für gleiche Rechte in Kreuzberg, Berlin und Deutsch
 land - 1890 bis Gegenwart
DTSTART:20230423T150000
DTEND:20230423T171500
UID:2026-04-21-04-05-05-0-@calendar.boell.de
DTSTAMP:20260421T020505
DESCRIPTION:▶ Siehe Veranstaltungsbeschreibung – Landesstiftung Berlin 
 (Bildungswerk)
END:VEVENT
END:VCALENDAR
