BEGIN:VCALENDAR
VERSION:2.0
PRODID:-//ZContent.net//ZapCalLib 1.0//EN
CALSCALE:GREGORIAN
METHOD:PUBLISH
BEGIN:VEVENT
SUMMARY:Patrida  | Dokumentarfilm & Talk - hybrid
DTSTART:20230215T183000
DTEND:20230215T213100
UID:2026-04-24-21-47-27-0-@calendar.boell.de
DTSTAMP:20260424T194727
DESCRIPTION:▶ Siehe Veranstaltungsbeschreibung – Stuttgart – Heinrich
  Böll Stiftung Baden-Württemberg
END:VEVENT
END:VCALENDAR
