BEGIN:VCALENDAR
VERSION:2.0
PRODID:-//ZContent.net//ZapCalLib 1.0//EN
CALSCALE:GREGORIAN
METHOD:PUBLISH
BEGIN:VEVENT
SUMMARY:Kinderarmut bekämpfen – Zur Rolle frühkindlicher Bildung  | Ver
 anstaltungsreihe zum Sozialatlas
DTSTART:20230323T110000
DTEND:20230323T130000
UID:2026-04-25-04-13-02-0-@calendar.boell.de
DTSTAMP:20260425T021302
DESCRIPTION:▶ Siehe Veranstaltungsbeschreibung – Hamburg – Landesstif
 tung Hamburg
END:VEVENT
END:VCALENDAR
