BEGIN:VCALENDAR
VERSION:2.0
PRODID:-//ZContent.net//ZapCalLib 1.0//EN
CALSCALE:GREGORIAN
METHOD:PUBLISH
BEGIN:VEVENT
SUMMARY:Schwesterherz – Biographie-Workshop für Frauen*  | Schwesterherz
  – Biographie-Workshop für Frauen*
DTSTART:20230331T180000
DTEND:20230402T163000
UID:2026-04-20-03-21-45-0-@calendar.boell.de
DTSTAMP:20260420T012145
DESCRIPTION:▶ Siehe Veranstaltungsbeschreibung – Landesstiftung Berlin 
 (Bildungswerk)
END:VEVENT
END:VCALENDAR
