BEGIN:VCALENDAR
VERSION:2.0
PRODID:-//ZContent.net//ZapCalLib 1.0//EN
CALSCALE:GREGORIAN
METHOD:PUBLISH
BEGIN:VEVENT
SUMMARY:Politische Bildungsarbeit und internationale Kooperation in Zeiten 
 des Kriegs | Short Study Visit für Mitarbeiter*innen russischer politisch
 er, sozialer und Menschenrechts-NGO
DTSTART:20221118T121756
DTEND:20221122T131756
UID:2026-04-25-13-28-15-0-@calendar.boell.de
DTSTAMP:20260425T112815
DESCRIPTION:▶ Siehe Veranstaltungsbeschreibung – Belgien – 
END:VEVENT
END:VCALENDAR
