BEGIN:VCALENDAR
VERSION:2.0
PRODID:-//ZContent.net//ZapCalLib 1.0//EN
CALSCALE:GREGORIAN
METHOD:PUBLISH
BEGIN:VEVENT
SUMMARY:Feministische Außenpolitik: | Potentiale für die Bewegungen in Af
 ghanistan und Iran
DTSTART:20221129T203000
DTEND:20221129T220000
UID:2026-04-24-13-55-52-0-@calendar.boell.de
DTSTAMP:20260424T115552
DESCRIPTION:▶ Online-Veranstaltung – Landesstiftung Hessen
END:VEVENT
END:VCALENDAR
