BEGIN:VCALENDAR
VERSION:2.0
PRODID:-//ZContent.net//ZapCalLib 1.0//EN
CALSCALE:GREGORIAN
METHOD:PUBLISH
BEGIN:VEVENT
SUMMARY:Serhij Zhadan und Band - ZHADAN I SOBAKY | Lesung und Konzert
DTSTART:20221205T183000
DTEND:20221205T213000
UID:2026-04-24-00-36-44-0-@calendar.boell.de
DTSTAMP:20260423T223644
DESCRIPTION:▶ Siehe Veranstaltungsbeschreibung – Frankfurt (Oder) – H
 einrich-Böll-Stiftung - Bundesstiftung Berlin
END:VEVENT
END:VCALENDAR
