BEGIN:VCALENDAR
VERSION:2.0
PRODID:-//ZContent.net//ZapCalLib 1.0//EN
CALSCALE:GREGORIAN
METHOD:PUBLISH
BEGIN:VEVENT
SUMMARY:Community-Klönschnack – Tausch und leih dich glücklich | mit be
 wirk – Gemeinsam fürs Klima
DTSTART:20221108T190000
DTEND:20221108T203000
UID:2026-04-24-07-55-39-0-@calendar.boell.de
DTSTAMP:20260424T055539
DESCRIPTION:▶ Online-Veranstaltung – Landesstiftung Schleswig-Holstein
END:VEVENT
END:VCALENDAR
