BEGIN:VCALENDAR
VERSION:2.0
PRODID:-//ZContent.net//ZapCalLib 1.0//EN
CALSCALE:GREGORIAN
METHOD:PUBLISH
BEGIN:VEVENT
SUMMARY:Machtwechsel in Ankara? | Die TÃ¼rkei vor den Wahlen 2023
DTSTART:20221122T190000
DTEND:20221122T220000
UID:2026-04-25-02-12-21-0-@calendar.boell.de
DTSTAMP:20260425T001221
DESCRIPTION:â–¶ Siehe Veranstaltungsbeschreibung â€“ Berlin â€“ Heinrich-BÃ
 ¶ll-Stiftung - Bundesstiftung Berlin
END:VEVENT
END:VCALENDAR
