BEGIN:VCALENDAR
VERSION:2.0
PRODID:-//ZContent.net//ZapCalLib 1.0//EN
CALSCALE:GREGORIAN
METHOD:PUBLISH
BEGIN:VEVENT
SUMMARY:Fachkräfteschulung "EmpowerMINT*"
DTSTART:20221112T090000
DTEND:20221113T170000
UID:2026-04-24-11-23-51-0-@calendar.boell.de
DTSTAMP:20260424T092351
DESCRIPTION:▶ Siehe Veranstaltungsbeschreibung – Jena – Externe Veran
 staltung
END:VEVENT
END:VCALENDAR
