BEGIN:VCALENDAR
VERSION:2.0
PRODID:-//ZContent.net//ZapCalLib 1.0//EN
CALSCALE:GREGORIAN
METHOD:PUBLISH
BEGIN:VEVENT
SUMMARY:PUNK as F*CK | Die Szene aus FLINTA-Perspektive
DTSTART:20221119T193000
DTEND:20221119T210000
UID:2026-04-24-07-55-44-0-@calendar.boell.de
DTSTAMP:20260424T055544
DESCRIPTION:▶ Siehe Veranstaltungsbeschreibung – Nürnberg – Petra-Ke
 lly-Stiftung
END:VEVENT
END:VCALENDAR
