BEGIN:VCALENDAR
VERSION:2.0
PRODID:-//ZContent.net//ZapCalLib 1.0//EN
CALSCALE:GREGORIAN
METHOD:PUBLISH
BEGIN:VEVENT
SUMMARY:Bildung im Sozialraum | Wie aus Risiken Chancen werden können
DTSTART:20221128T160000
DTEND:20221128T183000
UID:2026-04-24-21-48-43-0-@calendar.boell.de
DTSTAMP:20260424T194843
DESCRIPTION:▶ Online-Veranstaltung – Heinrich-Böll-Stiftung - Bundesst
 iftung Berlin
END:VEVENT
END:VCALENDAR
