BEGIN:VCALENDAR
VERSION:2.0
PRODID:-//ZContent.net//ZapCalLib 1.0//EN
CALSCALE:GREGORIAN
METHOD:PUBLISH
BEGIN:VEVENT
SUMMARY:Die WM in Katar - Chance oder Scheitern?
DTSTART:20221117T200000
DTEND:20221117T220000
UID:2026-04-24-09-21-50-0-@calendar.boell.de
DTSTAMP:20260424T072150
DESCRIPTION:▶ Siehe Veranstaltungsbeschreibung – München – Petra-Kel
 ly-Stiftung
END:VEVENT
END:VCALENDAR
