BEGIN:VCALENDAR
VERSION:2.0
PRODID:-//ZContent.net//ZapCalLib 1.0//EN
CALSCALE:GREGORIAN
METHOD:PUBLISH
BEGIN:VEVENT
SUMMARY:Queerfeminist Futures | Film & Workshop "Schamloser Widerstand"
DTSTART:20221119T180000
DTEND:20221120T180000
UID:2026-04-24-09-21-47-0-@calendar.boell.de
DTSTAMP:20260424T072147
DESCRIPTION:▶ Siehe Veranstaltungsbeschreibung – Bremen – Landesstift
 ung Bremen
END:VEVENT
END:VCALENDAR
