BEGIN:VCALENDAR
VERSION:2.0
PRODID:-//ZContent.net//ZapCalLib 1.0//EN
CALSCALE:GREGORIAN
METHOD:PUBLISH
BEGIN:VEVENT
SUMMARY:BREAKDOWN - (Post)Digitale Communities der Freien Szene | Netzwerkk
 onferenz im Rahmen des Festivals "Theater der Dinge 2022"
DTSTART:20221103T100000
DTEND:20221103T150000
UID:2026-04-23-21-00-18-0-@calendar.boell.de
DTSTAMP:20260423T190018
DESCRIPTION:Heinrich-Böll-Stiftung - Bundesstiftung Berlin – Berlin – 
 Heinrich-Böll-Stiftung - Bundesstiftung Berlin
END:VEVENT
END:VCALENDAR
