BEGIN:VCALENDAR
VERSION:2.0
PRODID:-//ZContent.net//ZapCalLib 1.0//EN
CALSCALE:GREGORIAN
METHOD:PUBLISH
BEGIN:VEVENT
SUMMARY:Wie Wir Wollen / Choices Voices | Dokumentarfilm auf dem Hamburg In
 ternational Queer Film Festival
DTSTART:20221022T140000
DTEND:20221022T163000
UID:2026-04-25-23-42-07-0-@calendar.boell.de
DTSTAMP:20260425T214207
DESCRIPTION:▶ Siehe Veranstaltungsbeschreibung – Hamburg – Landesstif
 tung Hamburg
END:VEVENT
END:VCALENDAR
