BEGIN:VCALENDAR
VERSION:2.0
PRODID:-//ZContent.net//ZapCalLib 1.0//EN
CALSCALE:GREGORIAN
METHOD:PUBLISH
BEGIN:VEVENT
SUMMARY:OIKOS. Welt & Wirtschaft #10: Welcher Wohlstand, was für Wachstum?
 ! | Mit Ulrike Herrmann (Ralf Fücks musste leider kurzfristig absagen)
DTSTART:20221027T193000
DTEND:20221027T210000
UID:2026-04-24-08-46-59-0-@calendar.boell.de
DTSTAMP:20260424T064659
DESCRIPTION:▶ Siehe Veranstaltungsbeschreibung – Bremen – Landesstift
 ung Bremen
END:VEVENT
END:VCALENDAR
