BEGIN:VCALENDAR
VERSION:2.0
PRODID:-//ZContent.net//ZapCalLib 1.0//EN
CALSCALE:GREGORIAN
METHOD:PUBLISH
BEGIN:VEVENT
SUMMARY:The North Drift – Plastik in Strömen | Musik, Film und Gespräch
DTSTART:20221130T193000
DTEND:20221130T220000
UID:2026-04-25-23-41-58-0-@calendar.boell.de
DTSTAMP:20260425T214158
DESCRIPTION:▶ Siehe Veranstaltungsbeschreibung – Dresden – Landesstif
 tung Sachsen (Weiterdenken)
END:VEVENT
END:VCALENDAR
