BEGIN:VCALENDAR
VERSION:2.0
PRODID:-//ZContent.net//ZapCalLib 1.0//EN
CALSCALE:GREGORIAN
METHOD:PUBLISH
BEGIN:VEVENT
SUMMARY: Nach der Krise ist vor der Krise – Was wir aus der Pandemiezeit 
 lernen könn(t)en | Film + Lesung + Erfahrungsaustausch
DTSTART:20221023T160000
DTEND:20221023T183000
UID:2026-04-26-04-41-30-0-@calendar.boell.de
DTSTAMP:20260426T024130
DESCRIPTION:▶ Siehe Veranstaltungsbeschreibung – Halle (Saale) – Land
 esstiftung Sachsen-Anhalt
END:VEVENT
END:VCALENDAR
