BEGIN:VCALENDAR
VERSION:2.0
PRODID:-//ZContent.net//ZapCalLib 1.0//EN
CALSCALE:GREGORIAN
METHOD:PUBLISH
BEGIN:VEVENT
SUMMARY:Zeitenwende 2022 | Grüner Salon Düsseldorf fragt: Was macht das m
 it unserer Gesellschaft?
DTSTART:20221104T180000
DTEND:20221104T200000
UID:2026-04-24-12-28-36-0-@calendar.boell.de
DTSTAMP:20260424T102836
DESCRIPTION:▶ Siehe Veranstaltungsbeschreibung – Düsseldorf – Landes
 stiftung Nordrhein-Westfalen
END:VEVENT
END:VCALENDAR
