BEGIN:VCALENDAR
VERSION:2.0
PRODID:-//ZContent.net//ZapCalLib 1.0//EN
CALSCALE:GREGORIAN
METHOD:PUBLISH
BEGIN:VEVENT
SUMMARY:Chernobyl Memory Tour | Eröffnung: Fensterausstellung bei Weiterde
 nken - Kraftwerk Mitte 32, Dresden
DTSTART:20221005T180000
DTEND:20221005T200000
UID:2026-04-25-04-12-55-0-@calendar.boell.de
DTSTAMP:20260425T021255
DESCRIPTION:▶ Siehe Veranstaltungsbeschreibung – Dresden – 
END:VEVENT
END:VCALENDAR
