BEGIN:VCALENDAR
VERSION:2.0
PRODID:-//ZContent.net//ZapCalLib 1.0//EN
CALSCALE:GREGORIAN
METHOD:PUBLISH
BEGIN:VEVENT
SUMMARY:Kunst_Weggespart oder systemrelevant? | Keine Kunst ohne Institutio
 nen?
DTSTART:20221028T193000
DTEND:20221028T210000
UID:2026-04-24-12-26-50-0-@calendar.boell.de
DTSTAMP:20260424T102650
DESCRIPTION:▶ Siehe Veranstaltungsbeschreibung – 
END:VEVENT
END:VCALENDAR
