BEGIN:VCALENDAR
VERSION:2.0
PRODID:-//ZContent.net//ZapCalLib 1.0//EN
CALSCALE:GREGORIAN
METHOD:PUBLISH
BEGIN:VEVENT
SUMMARY:Widersprüchliche Weltmacht China | Was bedeutet der Aufstieg der V
 olksrepublik für die internationale Ordnung unf für Europa?
DTSTART:20221018T183000
DTEND:20221018T200000
UID:2026-04-24-13-57-43-0-@calendar.boell.de
DTSTAMP:20260424T115743
DESCRIPTION:▶ Siehe Veranstaltungsbeschreibung – Landesstiftung Hessen
END:VEVENT
END:VCALENDAR
