BEGIN:VCALENDAR
VERSION:2.0
PRODID:-//ZContent.net//ZapCalLib 1.0//EN
CALSCALE:GREGORIAN
METHOD:PUBLISH
BEGIN:VEVENT
SUMMARY:INTER* - Leben zwischen den Geschlechtern | Szenische Lesung von Fr
 l. Wunder AG & Intergeschlechtliche Menschen e.V.
DTSTART:20221013T094500
DTEND:20221013T111500
UID:2026-04-24-13-43-24-0-@calendar.boell.de
DTSTAMP:20260424T114324
DESCRIPTION:▶ Siehe Veranstaltungsbeschreibung – 
END:VEVENT
END:VCALENDAR
