BEGIN:VCALENDAR
VERSION:2.0
PRODID:-//ZContent.net//ZapCalLib 1.0//EN
CALSCALE:GREGORIAN
METHOD:PUBLISH
BEGIN:VEVENT
SUMMARY:Anwalt ohne Recht | Das Schicksal der jüdischen Rechtsanwälte in 
 Berlin nach 1933
DTSTART:20221020T180000
DTEND:20221020T200000
UID:2026-04-25-02-12-16-0-@calendar.boell.de
DTSTAMP:20260425T001216
DESCRIPTION:▶ Siehe Veranstaltungsbeschreibung – Berlin – Landesstift
 ung Berlin (Bildungswerk)
END:VEVENT
END:VCALENDAR
