BEGIN:VCALENDAR
VERSION:2.0
PRODID:-//ZContent.net//ZapCalLib 1.0//EN
CALSCALE:GREGORIAN
METHOD:PUBLISH
BEGIN:VEVENT
SUMMARY:Geht’s noch?! Push back racism – not people!
DTSTART:20221002T160000
DTEND:20221002T160000
UID:2026-04-24-12-27-22-0-@calendar.boell.de
DTSTAMP:20260424T102722
DESCRIPTION:▶ Siehe Veranstaltungsbeschreibung – München – Petra-Kel
 ly-Stiftung
END:VEVENT
END:VCALENDAR
