BEGIN:VCALENDAR
VERSION:2.0
PRODID:-//ZContent.net//ZapCalLib 1.0//EN
CALSCALE:GREGORIAN
METHOD:PUBLISH
BEGIN:VEVENT
SUMMARY:Verqueres Denken | Gefährliche Weltbilder in alternativen Milieus
DTSTART:20221124T200000
DTEND:20221124T213000
UID:2026-04-25-01-27-25-0-@calendar.boell.de
DTSTAMP:20260424T232725
DESCRIPTION:▶ Siehe Veranstaltungsbeschreibung – Heinrich Böll Stiftun
 g Baden-Württemberg
END:VEVENT
END:VCALENDAR
