BEGIN:VCALENDAR
VERSION:2.0
PRODID:-//ZContent.net//ZapCalLib 1.0//EN
CALSCALE:GREGORIAN
METHOD:PUBLISH
BEGIN:VEVENT
SUMMARY:Freiheit in der (digitalen) Gegenwart | Eine Kooperation des Hannah
 -Arendt-Preis für politisches Denken, der Heinrich Böll Stiftung Bremen 
 sowie der Böll-Bundesstiftung
DTSTART:20220916T190000
DTEND:20220916T210000
UID:2026-04-24-20-22-42-0-@calendar.boell.de
DTSTAMP:20260424T182242
DESCRIPTION:▶ Siehe Veranstaltungsbeschreibung – Bremen – Landesstift
 ung Bremen
END:VEVENT
END:VCALENDAR
