BEGIN:VCALENDAR
VERSION:2.0
PRODID:-//ZContent.net//ZapCalLib 1.0//EN
CALSCALE:GREGORIAN
METHOD:PUBLISH
BEGIN:VEVENT
SUMMARY:Lange Nacht der ukrainischen Literatur
DTSTART:20221008T180000
DTEND:20221008T230000
UID:2026-04-24-11-49-06-0-@calendar.boell.de
DTSTAMP:20260424T094906
DESCRIPTION:▶ Siehe Veranstaltungsbeschreibung – Jena – Landesstiftun
 g Thüringen
END:VEVENT
END:VCALENDAR
