BEGIN:VCALENDAR
VERSION:2.0
PRODID:-//ZContent.net//ZapCalLib 1.0//EN
CALSCALE:GREGORIAN
METHOD:PUBLISH
BEGIN:VEVENT
SUMMARY:Ausstellung „Energiewende für MV!“
DTSTART:20221003T100000
DTEND:20221003T170000
UID:2026-04-24-13-56-46-0-@calendar.boell.de
DTSTAMP:20260424T115646
DESCRIPTION:▶ Siehe Veranstaltungsbeschreibung – Landesstiftung Mecklen
 burg-Vorpommern
END:VEVENT
END:VCALENDAR
