BEGIN:VCALENDAR
VERSION:2.0
PRODID:-//ZContent.net//ZapCalLib 1.0//EN
CALSCALE:GREGORIAN
METHOD:PUBLISH
BEGIN:VEVENT
SUMMARY:Diskriminierung und Rassismus als Polizeithema: Die Berliner Polize
 istudie
DTSTART:20221019T180000
DTEND:20221019T193000
UID:2026-04-23-08-38-18-0-@calendar.boell.de
DTSTAMP:20260423T063818
DESCRIPTION:Heinrich-Böll-Stiftung - Bundesstiftung Berlin – Berlin – 
 Heinrich-Böll-Stiftung - Bundesstiftung Berlin
END:VEVENT
END:VCALENDAR
