BEGIN:VCALENDAR
VERSION:2.0
PRODID:-//ZContent.net//ZapCalLib 1.0//EN
CALSCALE:GREGORIAN
METHOD:PUBLISH
BEGIN:VEVENT
SUMMARY:DIMENSION of FUTURE | Ausstellung der PerspektivRegion
DTSTART:20221001T000000
DTEND:20221106T230000
UID:2026-04-25-01-35-47-0-@calendar.boell.de
DTSTAMP:20260424T233547
DESCRIPTION:▶ Siehe Veranstaltungsbeschreibung – Landesstiftung Schlesw
 ig-Holstein
END:VEVENT
END:VCALENDAR
