BEGIN:VCALENDAR
VERSION:2.0
PRODID:-//ZContent.net//ZapCalLib 1.0//EN
CALSCALE:GREGORIAN
METHOD:PUBLISH
BEGIN:VEVENT
SUMMARY:Amir Hassan Cheheltan: Eine Liebe in Kairo.  | Lesung und Gespräch
DTSTART:20220920T190000
DTEND:20220920T210000
UID:2026-04-24-03-25-52-0-@calendar.boell.de
DTSTAMP:20260424T012552
DESCRIPTION:Heinrich-Böll-Stiftung - Bundesstiftung Berlin – Berlin – 
 Heinrich-Böll-Stiftung - Bundesstiftung Berlin
END:VEVENT
END:VCALENDAR
